BEGIN:VCALENDAR
VERSION:2.0
PRODID:-//Sabre//Sabre VObject 4.5.8//EN
CALSCALE:GREGORIAN
BEGIN:VEVENT
UID:criticalmass-one-guetersloh-1478271600
DTSTAMP:20260424T152149Z
SUMMARY:Critical Mass Gütersloh 04.11.2016
DTSTART;TZID=Europe/Berlin:20161104T160000
DTEND;TZID=Europe/Berlin:20161104T180000
LOCATION:Berliner Platz
GEO:51.906480;8.378683
URL;VALUE=URI:https://criticalmass.in/guetersloh/2016-11-04
END:VEVENT
END:VCALENDAR
