BEGIN:VCALENDAR
VERSION:2.0
PRODID:-//Sabre//Sabre VObject 4.5.8//EN
CALSCALE:GREGORIAN
BEGIN:VEVENT
UID:criticalmass-one-guetersloh-1446832800
DTSTAMP:20260423T101104Z
SUMMARY:Critical Mass Gütersloh 06.11.2015
DTSTART;TZID=Europe/Berlin:20151106T190000
DTEND;TZID=Europe/Berlin:20151106T210000
LOCATION:Berliner Platz
GEO:51.906480;8.378683
URL;VALUE=URI:https://criticalmass.in/guetersloh/2015-11-06
END:VEVENT
END:VCALENDAR
