BEGIN:VCALENDAR
VERSION:2.0
PRODID:-//Sabre//Sabre VObject 4.5.8//EN
CALSCALE:GREGORIAN
BEGIN:VEVENT
UID:criticalmass-one-guetersloh-1423245600
DTSTAMP:20260425T221550Z
SUMMARY:Critical Mass Gütersloh 06.02.2015
DTSTART;TZID=Europe/Berlin:20150206T190000
DTEND;TZID=Europe/Berlin:20150206T210000
LOCATION:Berliner Platz
GEO:51.906480;8.378683
URL;VALUE=URI:https://criticalmass.in/guetersloh/2015-02-06
END:VEVENT
END:VCALENDAR
