BEGIN:VCALENDAR
VERSION:2.0
PRODID:-//Sabre//Sabre VObject 4.5.8//EN
CALSCALE:GREGORIAN
BEGIN:VEVENT
UID:criticalmass-one-guetersloh-1404493200
DTSTAMP:20260422T230014Z
SUMMARY:Critical Mass Gütersloh 04.07.2014
DTSTART;TZID=Europe/Berlin:20140704T190000
DTEND;TZID=Europe/Berlin:20140704T210000
LOCATION:Berliner Platz
GEO:51.906480;8.378683
URL;VALUE=URI:https://criticalmass.in/guetersloh/2014-07-04
END:VEVENT
END:VCALENDAR
