BEGIN:VCALENDAR
VERSION:2.0
PRODID:-//Sabre//Sabre VObject 4.5.8//EN
CALSCALE:GREGORIAN
BEGIN:VEVENT
UID:criticalmass-one-guetersloh-1399050000
DTSTAMP:20260423T080543Z
SUMMARY:Critical Mass Gütersloh 02.05.2014
DTSTART;TZID=Europe/Berlin:20140502T190000
DTEND;TZID=Europe/Berlin:20140502T210000
LOCATION:Berliner Platz
GEO:51.906480;8.378683
URL;VALUE=URI:https://criticalmass.in/guetersloh/2014-05-02
END:VEVENT
END:VCALENDAR
