BEGIN:VCALENDAR
VERSION:2.0
PRODID:-//Sabre//Sabre VObject 4.5.8//EN
CALSCALE:GREGORIAN
BEGIN:VEVENT
UID:criticalmass-one-gro--gerau-1632502800
DTSTAMP:20260421T151458Z
SUMMARY:2. Critical Mass Groß-Gerau 24.09.2021
DTSTART;TZID=Europe/Berlin:20210924T190000
DTEND;TZID=Europe/Berlin:20210924T210000
LOCATION:Marktplatz Groß-Gerau
GEO:49.919191;8.485329
URL;VALUE=URI:https://criticalmass.in/gro--gerau/2021-09-24
END:VEVENT
END:VCALENDAR
