BEGIN:VCALENDAR
VERSION:2.0
PRODID:-//Sabre//Sabre VObject 4.5.8//EN
CALSCALE:GREGORIAN
BEGIN:VEVENT
UID:criticalmass-one-graz-1604071800
DTSTAMP:20260423T064630Z
SUMMARY:Critical Mass Graz 30.10.2020
DTSTART;TZID=Europe/Vienna:20201030T163000
DTEND;TZID=Europe/Vienna:20201030T183000
LOCATION:Südtiroler Platz
GEO:47.070909;15.431062
URL;VALUE=URI:https://criticalmass.in/graz/2020-10-30
END:VEVENT
END:VCALENDAR
