BEGIN:VCALENDAR
VERSION:2.0
PRODID:-//Sabre//Sabre VObject 4.5.8//EN
CALSCALE:GREGORIAN
BEGIN:VEVENT
UID:criticalmass-one-graz-1556289000
DTSTAMP:20260422T114834Z
SUMMARY:Critical Mass mit Ghost Bike
DESCRIPTION:im Gedenken an einen verunfallten Radfahrer wird im Rahmen dies
 er CM ein Ghost Bike nahe des Unfallorts aufgestellt.
DTSTART;TZID=Europe/Vienna:20190426T163000
DTEND;TZID=Europe/Vienna:20190426T183000
LOCATION:Südtiroler Platz
GEO:47.070909;15.431062
URL;VALUE=URI:https://criticalmass.in/graz/2019-04-26
END:VEVENT
END:VCALENDAR
