BEGIN:VCALENDAR
VERSION:2.0
PRODID:-//Sabre//Sabre VObject 4.5.8//EN
CALSCALE:GREGORIAN
BEGIN:VEVENT
UID:criticalmass-one-graz-1546011000
DTSTAMP:20260424T002040Z
SUMMARY:Critical Mass Graz 28.12.2018
DTSTART;TZID=Europe/Vienna:20181228T163000
DTEND;TZID=Europe/Vienna:20181228T183000
LOCATION:Südtiroler Platz
GEO:47.070909;15.431062
URL;VALUE=URI:https://criticalmass.in/graz/2018-12-28
END:VEVENT
END:VCALENDAR
