BEGIN:VCALENDAR
VERSION:2.0
PRODID:-//Sabre//Sabre VObject 4.5.8//EN
CALSCALE:GREGORIAN
BEGIN:VEVENT
UID:criticalmass-one-gotzis-1683374400
DTSTAMP:20260425T122334Z
SUMMARY:Kidical Mass Götzis 06.05.2023
DTSTART;TZID=Europe/Berlin:20230506T140000
DTEND;TZID=Europe/Berlin:20230506T160000
LOCATION:Garnmarkt
GEO:47.336047;9.646438
URL;VALUE=URI:https://criticalmass.in/gotzis/kidical-mass-gotzis-mai-2023
END:VEVENT
END:VCALENDAR
