BEGIN:VCALENDAR
VERSION:2.0
PRODID:-//Sabre//Sabre VObject 4.5.8//EN
CALSCALE:GREGORIAN
BEGIN:VEVENT
UID:criticalmass-one-gorlitz-1651244400
DTSTAMP:20260421T160514Z
SUMMARY:Critical Mass April 2022
DESCRIPTION:Gemeinsam Radeln für die #Verkehrswende\, #Klimaschutz und ein
  sicheres Radnetz in der ganzen #Oberlausitz! Treff wie immer jeden letzte
 n Freitag im Monat\, 17 Uhr auf dem Marienplatz in Görlitz.
DTSTART;TZID=Europe/Berlin:20220429T170000
DTEND;TZID=Europe/Berlin:20220429T190000
LOCATION:Görlitz\, Marienplatz
GEO:51.153351;14.987251
URL;VALUE=URI:https://criticalmass.in/gorlitz/2022-04-29
END:VEVENT
END:VCALENDAR
