BEGIN:VCALENDAR
VERSION:2.0
PRODID:-//Sabre//Sabre VObject 4.5.8//EN
CALSCALE:GREGORIAN
BEGIN:VEVENT
UID:criticalmass-one-goeteborg-1725033600
DTSTAMP:20260422T110727Z
SUMMARY:Critical Mass Göteborg 30.08.2024
DTSTART;TZID=Europe/Stockholm:20240830T180000
DTEND;TZID=Europe/Stockholm:20240830T200000
LOCATION:Bältespännarparken
GEO:57.702542;11.972136
URL;VALUE=URI:https://criticalmass.in/goeteborg/2024-08-30
END:VEVENT
END:VCALENDAR
