BEGIN:VCALENDAR
VERSION:2.0
PRODID:-//Sabre//Sabre VObject 4.5.8//EN
CALSCALE:GREGORIAN
BEGIN:VEVENT
UID:criticalmass-one-goeteborg-1722009600
DTSTAMP:20260422T172449Z
SUMMARY:Critical Mass Göteborg 26.07.2024
DTSTART;TZID=Europe/Stockholm:20240726T180000
DTEND;TZID=Europe/Stockholm:20240726T200000
LOCATION:Bältespännarparken
GEO:57.702542;11.972136
URL;VALUE=URI:https://criticalmass.in/goeteborg/2024-07-26
END:VEVENT
END:VCALENDAR
