BEGIN:VCALENDAR
VERSION:2.0
PRODID:-//Sabre//Sabre VObject 4.5.8//EN
CALSCALE:GREGORIAN
BEGIN:VEVENT
UID:criticalmass-one-goeteborg-1692979200
DTSTAMP:20260422T065208Z
SUMMARY:Critical Mass Göteborg 25.08.2023
DTSTART;TZID=Europe/Stockholm:20230825T180000
DTEND;TZID=Europe/Stockholm:20230825T200000
LOCATION:Bältespännarparken
GEO:57.702542;11.972136
URL;VALUE=URI:https://criticalmass.in/goeteborg/2023-08-25
END:VEVENT
END:VCALENDAR
