BEGIN:VCALENDAR
VERSION:2.0
PRODID:-//Sabre//Sabre VObject 4.5.8//EN
CALSCALE:GREGORIAN
BEGIN:VEVENT
UID:criticalmass-one-goeteborg-1688140800
DTSTAMP:20260422T113848Z
SUMMARY:Critical Mass Göteborg 30.06.2023
DTSTART;TZID=Europe/Stockholm:20230630T180000
DTEND;TZID=Europe/Stockholm:20230630T200000
LOCATION:Bältespännarparken
GEO:57.702542;11.972136
URL;VALUE=URI:https://criticalmass.in/goeteborg/2023-06-30
END:VEVENT
END:VCALENDAR
