BEGIN:VCALENDAR
VERSION:2.0
PRODID:-//Sabre//Sabre VObject 4.5.8//EN
CALSCALE:GREGORIAN
BEGIN:VEVENT
UID:criticalmass-one-goeteborg-1682697600
DTSTAMP:20260422T082643Z
SUMMARY:Critical Mass Göteborg 28.04.2023
DTSTART;TZID=Europe/Stockholm:20230428T180000
DTEND;TZID=Europe/Stockholm:20230428T200000
LOCATION:Bältespännarparken
GEO:57.702542;11.972136
URL;VALUE=URI:https://criticalmass.in/goeteborg/2023-04-28
END:VEVENT
END:VCALENDAR
