BEGIN:VCALENDAR
VERSION:2.0
PRODID:-//Sabre//Sabre VObject 4.5.8//EN
CALSCALE:GREGORIAN
BEGIN:VEVENT
UID:criticalmass-one-goeteborg-1680278400
DTSTAMP:20260423T113651Z
SUMMARY:Critical Mass Göteborg 31.03.2023
DTSTART;TZID=Europe/Stockholm:20230331T180000
DTEND;TZID=Europe/Stockholm:20230331T200000
LOCATION:Bältespännarparken
GEO:57.702542;11.972136
URL;VALUE=URI:https://criticalmass.in/goeteborg/2023-03-31
END:VEVENT
END:VCALENDAR
