BEGIN:VCALENDAR
VERSION:2.0
PRODID:-//Sabre//Sabre VObject 4.5.8//EN
CALSCALE:GREGORIAN
BEGIN:VEVENT
UID:criticalmass-one-goeteborg-1664553600
DTSTAMP:20260422T202427Z
SUMMARY:Critical Mass Göteborg 30.09.2022
DTSTART;TZID=Europe/Stockholm:20220930T180000
DTEND;TZID=Europe/Stockholm:20220930T200000
LOCATION:Bältespännarparken
GEO:57.702542;11.972136
URL;VALUE=URI:https://criticalmass.in/goeteborg/2022-09-30
END:VEVENT
END:VCALENDAR
