BEGIN:VCALENDAR
VERSION:2.0
PRODID:-//Sabre//Sabre VObject 4.5.8//EN
CALSCALE:GREGORIAN
BEGIN:VEVENT
UID:criticalmass-one-goeteborg-1635523200
DTSTAMP:20260422T082642Z
SUMMARY:Critical Mass Göteborg 29.10.2021
DTSTART;TZID=Europe/Stockholm:20211029T180000
DTEND;TZID=Europe/Stockholm:20211029T200000
LOCATION:Bältespännarparken
GEO:57.702542;11.972136
URL;VALUE=URI:https://criticalmass.in/goeteborg/2021-10-29
END:VEVENT
END:VCALENDAR
