BEGIN:VCALENDAR
VERSION:2.0
PRODID:-//Sabre//Sabre VObject 4.5.8//EN
CALSCALE:GREGORIAN
BEGIN:VEVENT
UID:criticalmass-one-goeteborg-1561737600
DTSTAMP:20260424T180820Z
SUMMARY:Critical Mass Göteborg 28.06.2019
DTSTART;TZID=Europe/Stockholm:20190628T180000
DTEND;TZID=Europe/Stockholm:20190628T200000
LOCATION:Bältespännarparken
GEO:57.702542;11.972136
URL;VALUE=URI:https://criticalmass.in/goeteborg/2019-06-28
END:VEVENT
END:VCALENDAR
