BEGIN:VCALENDAR
VERSION:2.0
PRODID:-//Sabre//Sabre VObject 4.5.8//EN
CALSCALE:GREGORIAN
BEGIN:VEVENT
UID:criticalmass-one-goeteborg-1535731200
DTSTAMP:20260424T180901Z
SUMMARY:Critical Mass Göteborg 31.08.2018
DTSTART;TZID=Europe/Stockholm:20180831T180000
DTEND;TZID=Europe/Stockholm:20180831T200000
LOCATION:Bältespännarparken
GEO:57.702542;11.972136
URL;VALUE=URI:https://criticalmass.in/goeteborg/2018-08-31
END:VEVENT
END:VCALENDAR
