BEGIN:VCALENDAR
VERSION:2.0
PRODID:-//Sabre//Sabre VObject 4.5.8//EN
CALSCALE:GREGORIAN
BEGIN:VEVENT
UID:criticalmass-one-goeteborg-1522429200
DTSTAMP:20260422T134656Z
SUMMARY:Critical Mass Göteborg 30.03.2018
DTSTART;TZID=Europe/Stockholm:20180330T190000
DTEND;TZID=Europe/Stockholm:20180330T210000
LOCATION:Bältespännarparken
GEO:57.702542;11.972136
URL;VALUE=URI:https://criticalmass.in/goeteborg/2018-03-30
END:VEVENT
END:VCALENDAR
