BEGIN:VCALENDAR
VERSION:2.0
PRODID:-//Sabre//Sabre VObject 4.5.8//EN
CALSCALE:GREGORIAN
BEGIN:VEVENT
UID:criticalmass-one-goeteborg-1519405200
DTSTAMP:20260421T161617Z
SUMMARY:Critical Mass Göteborg 23.02.2018
DTSTART;TZID=Europe/Stockholm:20180223T180000
DTEND;TZID=Europe/Stockholm:20180223T200000
LOCATION:Bältespännarparken
GEO:57.702542;11.972136
URL;VALUE=URI:https://criticalmass.in/goeteborg/2018-02-23
END:VEVENT
END:VCALENDAR
