BEGIN:VCALENDAR
VERSION:2.0
PRODID:-//Sabre//Sabre VObject 4.5.8//EN
CALSCALE:GREGORIAN
BEGIN:VEVENT
UID:criticalmass-one-goeteborg-1466784000
DTSTAMP:20260423T112904Z
SUMMARY:Critical Mass Göteborg 24.06.2016
DTSTART;TZID=Europe/Stockholm:20160624T180000
DTEND;TZID=Europe/Stockholm:20160624T200000
LOCATION:Bältespännarparken
GEO:57.702542;11.972136
URL;VALUE=URI:https://criticalmass.in/goeteborg/2016-06-24
END:VEVENT
END:VCALENDAR
