BEGIN:VCALENDAR
VERSION:2.0
PRODID:-//Sabre//Sabre VObject 4.5.8//EN
CALSCALE:GREGORIAN
BEGIN:VEVENT
UID:criticalmass-one-goeteborg-1458925200
DTSTAMP:20260422T093500Z
SUMMARY:Critical Mass Göteborg 25.03.2016
DTSTART;TZID=Europe/Stockholm:20160325T180000
DTEND;TZID=Europe/Stockholm:20160325T200000
LOCATION:Bältespännarparken
GEO:57.702542;11.972136
URL;VALUE=URI:https://criticalmass.in/goeteborg/2016-03-25
END:VEVENT
END:VCALENDAR
