BEGIN:VCALENDAR
VERSION:2.0
PRODID:-//Sabre//Sabre VObject 4.5.8//EN
CALSCALE:GREGORIAN
BEGIN:VEVENT
UID:criticalmass-one-gifhorn-1748093400
DTSTAMP:20260425T105932Z
SUMMARY:Kidical Mass Gifhorn 24.05.2025
DESCRIPTION:Von 10:00 Uhr bis 13:00 Uhr findet ihr den ADFC beim Familiensa
 mstag in der Gifhorner Fußgängerzone.
DTSTART;TZID=Europe/Berlin:20250524T153000
DTEND;TZID=Europe/Berlin:20250524T173000
LOCATION:Gifhorn Schloss Gifhorn
GEO:52.489757;10.547394
URL;VALUE=URI:https://criticalmass.in/gifhorn/kidical-mass-gifhorn-mai-2025
END:VEVENT
END:VCALENDAR
