BEGIN:VCALENDAR
VERSION:2.0
PRODID:-//Sabre//Sabre VObject 4.5.8//EN
CALSCALE:GREGORIAN
BEGIN:VEVENT
UID:criticalmass-one-giessen-1632042000
DTSTAMP:20260423T102451Z
SUMMARY:Kidical Mass Giessen 19.09.2021
DTSTART;TZID=Europe/Berlin:20210919T110000
DTEND;TZID=Europe/Berlin:20210919T130000
LOCATION:Kirchenplatz
GEO:50.587214;8.673929
URL;VALUE=URI:https://criticalmass.in/giessen/kidical-mass-giessen-septembe
 r-2021
END:VEVENT
END:VCALENDAR
