BEGIN:VCALENDAR
VERSION:2.0
PRODID:-//Sabre//Sabre VObject 4.5.8//EN
CALSCALE:GREGORIAN
BEGIN:VEVENT
UID:criticalmass-one-giessen-1747483200
DTSTAMP:20260422T100448Z
SUMMARY:Kidical Mass Gießen 17.05.2025
DESCRIPTION:Ab 14 Uhr Bastelaktion mit dem Thema "Einhorn"\nAusklang an den
  Lahnwiesen am Spielplatz Oswaldsgarten
DTSTART;TZID=Europe/Berlin:20250517T140000
DTEND;TZID=Europe/Berlin:20250517T160000
LOCATION:Gießen Bahnhofsvorplatz
GEO:50.601704;8.749741
URL;VALUE=URI:https://criticalmass.in/giessen/kidical-mass-giessen-mai-2025
END:VEVENT
END:VCALENDAR
