BEGIN:VCALENDAR
VERSION:2.0
PRODID:-//Sabre//Sabre VObject 4.5.8//EN
CALSCALE:GREGORIAN
BEGIN:VEVENT
UID:criticalmass-one-giessen-1714912200
DTSTAMP:20260421T163049Z
SUMMARY:Kidical Mass Gießen 05.05.2024
DTSTART;TZID=Europe/Berlin:20240505T143000
DTEND;TZID=Europe/Berlin:20240505T163000
LOCATION:Gießen Kidical Mass: Kirchenplatz
GEO:50.587215;8.674083
URL;VALUE=URI:https://criticalmass.in/giessen/kidical-mass-giessen-mai-2024
END:VEVENT
END:VCALENDAR
