BEGIN:VCALENDAR
VERSION:2.0
PRODID:-//Sabre//Sabre VObject 4.5.8//EN
CALSCALE:GREGORIAN
BEGIN:VEVENT
UID:criticalmass-one-giessen-1652518800
DTSTAMP:20260424T181247Z
SUMMARY:Kidical Mass Giessen 14.05.2022
DTSTART;TZID=Europe/Berlin:20220514T110000
DTEND;TZID=Europe/Berlin:20220514T130000
LOCATION:Bahnhofsvorplatz 
GEO:50.580301;8.664577
URL;VALUE=URI:https://criticalmass.in/giessen/kidical-mass-giessen-mai-2022
END:VEVENT
END:VCALENDAR
