BEGIN:VCALENDAR
VERSION:2.0
PRODID:-//Sabre//Sabre VObject 4.5.8//EN
CALSCALE:GREGORIAN
BEGIN:VEVENT
UID:criticalmass-one-giessen-1717689600
DTSTAMP:20260422T050019Z
SUMMARY:Gemeinsam Radeln 06.06.2024
DTSTART;TZID=Europe/Berlin:20240606T180000
DTEND;TZID=Europe/Berlin:20240606T200000
LOCATION:Ludwigstr. 23\, Vorplatz des Uni-Haupgebäudes
GEO:50.580652;8.676930
URL;VALUE=URI:https://criticalmass.in/giessen/2024-06-06
END:VEVENT
END:VCALENDAR
