BEGIN:VCALENDAR
VERSION:2.0
PRODID:-//Sabre//Sabre VObject 4.5.8//EN
CALSCALE:GREGORIAN
BEGIN:VEVENT
UID:criticalmass-one-giessen-1707645600
DTSTAMP:20260424T024617Z
SUMMARY:Gedenkfahrt für Natenom
DESCRIPTION:Gedenkfahrt bringt Plüschis mit :)
DTSTART;TZID=Europe/Berlin:20240211T110000
DTEND;TZID=Europe/Berlin:20240211T130000
LOCATION:Berliner Platz
GEO:50.583948;8.679398
URL;VALUE=URI:https://criticalmass.in/giessen/2024-02-11
END:VEVENT
END:VCALENDAR
