BEGIN:VCALENDAR
VERSION:2.0
PRODID:-//Sabre//Sabre VObject 4.5.8//EN
CALSCALE:GREGORIAN
BEGIN:VEVENT
UID:criticalmass-one-giessen-1698948000
DTSTAMP:20260422T150248Z
SUMMARY:Gemeinsam Radeln 02.11.2023
DTSTART;TZID=Europe/Berlin:20231102T190000
DTEND;TZID=Europe/Berlin:20231102T210000
LOCATION:Ludwigstr. 23\, Vorplatz des Uni-Haupgebäudes
GEO:50.580652;8.676930
URL;VALUE=URI:https://criticalmass.in/giessen/2023-11-02
END:VEVENT
END:VCALENDAR
