BEGIN:VCALENDAR
VERSION:2.0
PRODID:-//Sabre//Sabre VObject 4.5.8//EN
CALSCALE:GREGORIAN
BEGIN:VEVENT
UID:criticalmass-one-giessen-1694444400
DTSTAMP:20260423T100543Z
SUMMARY:Gemeinsam Radeln + Demo
DESCRIPTION:Für die Verkehrs wende auf dem Anlagenring!!!\nBegründung fü
 r 17 Uhr: Um 18 Uhr startet die Sonder-Parlamentssitzung im Rathaus am Ber
 liner Platz. Wir wollen um 17 Uhr die CM einmal um den Anlagenring machen 
 und ab 17.45 Uhr dann ordentlich Stimmung vor dem Rathaus ... da kommen ja
  die Abgeordneten lang und wir werden auch vom Sitzungssaal zu sehen und z
 u hören sein. Bringt Ideen mit ... Musikeinlagen\, Redebeiträge\, Kreide
 \, Transpis und alles\, was Euch einfällt. Auch lustige Einfälle für di
 e Zuschauer*innenränge ...
DTSTART;TZID=Europe/Berlin:20230911T170000
DTEND;TZID=Europe/Berlin:20230911T190000
LOCATION:Berliner Platz
GEO:50.584010;8.679205
URL;VALUE=URI:https://criticalmass.in/giessen/2023-09-11
END:VEVENT
END:VCALENDAR
