BEGIN:VCALENDAR
VERSION:2.0
PRODID:-//Sabre//Sabre VObject 4.5.8//EN
CALSCALE:GREGORIAN
BEGIN:VEVENT
UID:criticalmass-one-giessen-1693404000
DTSTAMP:20260424T220256Z
SUMMARY:Gerichts Entscheid
DESCRIPTION:Verwaltungsgericht Kassel hat gegen den Verkehrversuch entschie
 den
DTSTART;TZID=Europe/Berlin:20230830T160000
DTEND;TZID=Europe/Berlin:20230830T180000
LOCATION:Berliner Platz
GEO:50.583918;8.679156
URL;VALUE=URI:https://criticalmass.in/giessen/2023-08-30
END:VEVENT
END:VCALENDAR
