BEGIN:VCALENDAR
VERSION:2.0
PRODID:-//Sabre//Sabre VObject 4.5.8//EN
CALSCALE:GREGORIAN
BEGIN:VEVENT
UID:criticalmass-one-giessen-1692028800
DTSTAMP:20260424T000431Z
SUMMARY:Gemeinsam Radeln
DESCRIPTION:...
DTSTART;TZID=Europe/Berlin:20230814T180000
DTEND;TZID=Europe/Berlin:20230814T200000
LOCATION:Berliner Platz
URL;VALUE=URI:https://criticalmass.in/giessen/2023-08-14
END:VEVENT
END:VCALENDAR
