BEGIN:VCALENDAR
VERSION:2.0
PRODID:-//Sabre//Sabre VObject 4.5.8//EN
CALSCALE:GREGORIAN
BEGIN:VEVENT
UID:criticalmass-one-giessen-1685638800
DTSTAMP:20260423T100213Z
SUMMARY:Critical Mass Gießen 01.06.2023
DTSTART;TZID=Europe/Berlin:20230601T190000
DTEND;TZID=Europe/Berlin:20230601T210000
LOCATION:Ludwigstr. 23\, Vorplatz des Uni-Haupgebäudes
GEO:50.580652;8.676930
URL;VALUE=URI:https://criticalmass.in/giessen/2023-06-01
END:VEVENT
END:VCALENDAR
