BEGIN:VCALENDAR
VERSION:2.0
PRODID:-//Sabre//Sabre VObject 4.5.8//EN
CALSCALE:GREGORIAN
BEGIN:VEVENT
UID:criticalmass-one-giessen-1683219600
DTSTAMP:20260423T064710Z
SUMMARY:Critical Mass Gießen 04.05.2023
DTSTART;TZID=Europe/Berlin:20230504T190000
DTEND;TZID=Europe/Berlin:20230504T210000
LOCATION:Ludwigstr. 23\, Vorplatz des Uni-Haupgebäudes
GEO:50.580652;8.676930
URL;VALUE=URI:https://criticalmass.in/giessen/2023-05-04
END:VEVENT
END:VCALENDAR
