BEGIN:VCALENDAR
VERSION:2.0
PRODID:-//Sabre//Sabre VObject 4.5.8//EN
CALSCALE:GREGORIAN
BEGIN:VEVENT
UID:criticalmass-one-giessen-1654189200
DTSTAMP:20260424T093807Z
SUMMARY:Critical Mass Gießen 02.06.2022
DTSTART;TZID=Europe/Berlin:20220602T190000
DTEND;TZID=Europe/Berlin:20220602T210000
LOCATION:Ludwigstr. 23\, Vorplatz des Uni-Haupgebäudes
GEO:50.580652;8.676930
URL;VALUE=URI:https://criticalmass.in/giessen/2022-06-02
END:VEVENT
END:VCALENDAR
