BEGIN:VCALENDAR
VERSION:2.0
PRODID:-//Sabre//Sabre VObject 4.5.8//EN
CALSCALE:GREGORIAN
BEGIN:VEVENT
UID:criticalmass-one-giessen-1649350800
DTSTAMP:20260422T194455Z
SUMMARY:Critical Mass Gießen 07.04.2022
DTSTART;TZID=Europe/Berlin:20220407T190000
DTEND;TZID=Europe/Berlin:20220407T210000
LOCATION:Ludwigstr. 23\, Vorplatz des Uni-Haupgebäudes
GEO:50.580652;8.676930
URL;VALUE=URI:https://criticalmass.in/giessen/2022-04-07
END:VEVENT
END:VCALENDAR
