BEGIN:VCALENDAR
VERSION:2.0
PRODID:-//Sabre//Sabre VObject 4.5.8//EN
CALSCALE:GREGORIAN
BEGIN:VEVENT
UID:criticalmass-one-giessen-1625158800
DTSTAMP:20260425T180333Z
SUMMARY:Critical Mass Gießen 01.07.2021
DTSTART;TZID=Europe/Berlin:20210701T190000
DTEND;TZID=Europe/Berlin:20210701T210000
LOCATION:Ludwigstr. 23\, Vorplatz des Uni-Haupgebäudes
GEO:50.580652;8.676930
URL;VALUE=URI:https://criticalmass.in/giessen/2021-07-01
END:VEVENT
END:VCALENDAR
