BEGIN:VCALENDAR
VERSION:2.0
PRODID:-//Sabre//Sabre VObject 4.5.8//EN
CALSCALE:GREGORIAN
BEGIN:VEVENT
UID:criticalmass-one-giessen-1620320400
DTSTAMP:20260423T021231Z
SUMMARY:Critical Mass Gießen 06.05.2021
DTSTART;TZID=Europe/Berlin:20210506T190000
DTEND;TZID=Europe/Berlin:20210506T210000
LOCATION:Ludwigstr. 23\, Vorplatz des Uni-Haupgebäudes
GEO:50.580652;8.676930
URL;VALUE=URI:https://criticalmass.in/giessen/2021-05-06
END:VEVENT
END:VCALENDAR
