BEGIN:VCALENDAR
VERSION:2.0
PRODID:-//Sabre//Sabre VObject 4.5.8//EN
CALSCALE:GREGORIAN
BEGIN:VEVENT
UID:criticalmass-one-giessen-1617289200
DTSTAMP:20260423T052423Z
SUMMARY:Critical Mass Gießen 01.04.2021
DTSTART;TZID=Europe/Berlin:20210401T170000
DTEND;TZID=Europe/Berlin:20210401T190000
LOCATION:Ludwigstr. 23\, Vorplatz des Uni-Haupgebäudes
GEO:50.580652;8.676930
URL;VALUE=URI:https://criticalmass.in/giessen/2021-04-01
END:VEVENT
END:VCALENDAR
