BEGIN:VCALENDAR
VERSION:2.0
PRODID:-//Sabre//Sabre VObject 4.5.8//EN
CALSCALE:GREGORIAN
BEGIN:VEVENT
UID:criticalmass-one-giessen-1601571600
DTSTAMP:20260424T000341Z
SUMMARY:Critical Mass Gießen 01.10.2020
DTSTART;TZID=Europe/Berlin:20201001T190000
DTEND;TZID=Europe/Berlin:20201001T210000
LOCATION:Ludwigstr. 23\, Vorplatz des Uni-Haupgebäudes
GEO:50.580652;8.676930
URL;VALUE=URI:https://criticalmass.in/giessen/2020-10-01
END:VEVENT
END:VCALENDAR
