BEGIN:VCALENDAR
VERSION:2.0
PRODID:-//Sabre//Sabre VObject 4.5.8//EN
CALSCALE:GREGORIAN
BEGIN:VEVENT
UID:criticalmass-one-giessen-1593709200
DTSTAMP:20260422T142152Z
SUMMARY:Critical Mass Gießen 02.07.2020
DTSTART;TZID=Europe/Berlin:20200702T190000
DTEND;TZID=Europe/Berlin:20200702T210000
LOCATION:Ludwigstr. 23\, Vorplatz des Uni-Haupgebäudes
GEO:50.580652;8.676930
URL;VALUE=URI:https://criticalmass.in/giessen/2020-07-02
END:VEVENT
END:VCALENDAR
