BEGIN:VCALENDAR
VERSION:2.0
PRODID:-//Sabre//Sabre VObject 4.5.8//EN
CALSCALE:GREGORIAN
BEGIN:VEVENT
UID:criticalmass-one-giessen-1568556000
DTSTAMP:20260424T091920Z
SUMMARY:Critical Mass am Sonntag
DESCRIPTION:jeden dritten Sonntag  : )
DTSTART;TZID=Europe/Berlin:20190915T160000
DTEND;TZID=Europe/Berlin:20190915T180000
LOCATION:Ludwigstr. 23\, Vorplatz des Uni-Hauptgebäudes
URL;VALUE=URI:https://criticalmass.in/giessen/2019-09-15
END:VEVENT
END:VCALENDAR
