BEGIN:VCALENDAR
VERSION:2.0
PRODID:-//Sabre//Sabre VObject 4.5.8//EN
CALSCALE:GREGORIAN
BEGIN:VEVENT
UID:criticalmass-one-giessen-1554393600
DTSTAMP:20260425T043529Z
SUMMARY:Critical Mass Gießen 04.04.2019
DTSTART;TZID=Europe/Berlin:20190404T180000
DTEND;TZID=Europe/Berlin:20190404T200000
LOCATION:Vor der Universität
GEO:50.580652;8.676930
URL;VALUE=URI:https://criticalmass.in/giessen/2019-04-04
END:VEVENT
END:VCALENDAR
