BEGIN:VCALENDAR
VERSION:2.0
PRODID:-//Sabre//Sabre VObject 4.5.8//EN
CALSCALE:GREGORIAN
BEGIN:VEVENT
UID:criticalmass-one-giessen-1517504400
DTSTAMP:20260423T064624Z
SUMMARY:Critical Mass Gießen 01.02.2018
DTSTART;TZID=Europe/Berlin:20180201T180000
DTEND;TZID=Europe/Berlin:20180201T200000
LOCATION:Vor der Universität
GEO:50.580652;8.676930
URL;VALUE=URI:https://criticalmass.in/giessen/2018-02-01
END:VEVENT
END:VCALENDAR
