BEGIN:VCALENDAR
VERSION:2.0
PRODID:-//Sabre//Sabre VObject 4.5.8//EN
CALSCALE:GREGORIAN
BEGIN:VEVENT
UID:criticalmass-one-giessen-1491494400
DTSTAMP:20260422T070756Z
SUMMARY:Critical Mass Gießen 06.04.2017
DTSTART;TZID=Europe/Berlin:20170406T180000
DTEND;TZID=Europe/Berlin:20170406T200000
LOCATION:Vor der Universität
GEO:50.580652;8.676930
URL;VALUE=URI:https://criticalmass.in/giessen/2017-04-06
END:VEVENT
END:VCALENDAR
