BEGIN:VCALENDAR
VERSION:2.0
PRODID:-//Sabre//Sabre VObject 4.5.8//EN
CALSCALE:GREGORIAN
BEGIN:VEVENT
UID:criticalmass-one-giessen-1464883200
DTSTAMP:20260421T204348Z
SUMMARY:Critical Mass Gießen 02.06.2016
DTSTART;TZID=Europe/Berlin:20160602T180000
DTEND;TZID=Europe/Berlin:20160602T200000
LOCATION:Vor der Universität
GEO:50.580652;8.676930
URL;VALUE=URI:https://criticalmass.in/giessen/2016-06-02
END:VEVENT
END:VCALENDAR
